View In:
ArcGIS JavaScript
ArcGIS Online Map Viewer
ArcGIS Earth
ArcGIS Pro
Service Description: Sample data for ArcGIS Indoors. Includes people, floor-aware features, and an indoor network.
Map Name: Template - Floor Plan Editor_3D
Legend
All Layers and Tables
Layers:
Description: Sample data for ArcGIS Indoors. Includes people, floor-aware features, and an indoor network.
Service Item Id: e30394ea640e4fc8974703a523df5cf4
Copyright Text: Esri
Spatial Reference:
102100
(3857)
LatestVCSWkid(0)
Single Fused Map Cache: true
Tile Info:
- Height: 256.0
- Width: 256.0
- DPI: 96.0
-
Levels of Detail: 17
-
Level ID: 0
[ Start Tile, End Tile ]
- Resolution: 156543.03392800014
- Scale: 5.91657527591555E8
-
Level ID: 1
[ Start Tile, End Tile ]
- Resolution: 78271.51696399994
- Scale: 2.95828763795777E8
-
Level ID: 2
[ Start Tile, End Tile ]
- Resolution: 39135.75848200009
- Scale: 1.47914381897889E8
-
Level ID: 3
[ Start Tile, End Tile ]
- Resolution: 19567.87924099992
- Scale: 7.3957190948944E7
-
Level ID: 4
[ Start Tile, End Tile ]
- Resolution: 9783.93962049996
- Scale: 3.6978595474472E7
-
Level ID: 5
[ Start Tile, End Tile ]
- Resolution: 4891.96981024998
- Scale: 1.8489297737236E7
- Format: Mixed
- Compression Quality: 75.0
- Origin: X: -2.0037508342787E7
Y: 2.0037508342787E7
- Spatial Reference: 102100
(3857)
LatestVCSWkid(0)
Storage Info:
- Storage Format: esriMapCacheStorageModeCompactV2
- Packet Size: 128
Initial Extent:
XMin: -1.0908478581204986E7
YMin: 3018944.232838814
XMax: -1.0908424330249058E7
YMax: 3018962.5015844647
Spatial Reference: 102100
(0)
LatestVCSWkid(0)
Full Extent:
XMin: -1.094108961795498E7
YMin: 3025123.268586818
XMax: -1.094032335719233E7
YMax: 3025725.1044613887
Spatial Reference: 102100
(0)
LatestVCSWkid(0)
Units: esriMeters
Supported Image Format Types: PNG32,PNG24,PNG,JPG,DIB,TIFF,EMF,PS,PDF,GIF,SVG,SVGZ,BMP
Document Info:
Title: ArcGIS Indoors - Sample Web Map
Author:
Comments: Sample data for ArcGIS Indoors. Includes people, floor-aware features, and an indoor network.
Subject: Sample data for ArcGIS Indoors.
Category:
Keywords: ArcGIS Indoors
AntialiasingMode: Best
TextAntialiasingMode: None
Supports Dynamic Layers: false
MaxRecordCount: 1000
MaxSelectionCount: 2000
MaxImageHeight: 4096
MaxImageWidth: 4096
Supported Query Formats: JSON, geoJSON, PBF
Supports Query Data Elements: true
Min Scale: 5.91657527591555E8
Max Scale: 9027.977411
Min LOD: 0
Max LOD: 16
Supports Datum Transformation: true
Active Range Name:
Current Range Extent: [0,2]
Child Resources:
Info
Supported Operations:
QueryLegends
Return Updates